BEGIN:VCALENDAR
PRODID:-//Det Danske Spejderkorps//NONSGML Gruppeweb//EN
VERSION:2.0
CALSCALE:GREGORIAN
X-PUBLISHED-TTL:PT1H
X-WR-CALNAME:Flok i Kastrup Søspejder
METHOD:PUBLISH
BEGIN:VEVENT
UID:gruppeweb.dk:2104:event:1152
DTSTAMP:20260423T144406Z
LAST-MODIFIED:20260219T221039Z
SUMMARY:Spejdernes Lejr 2026 (SL2026) 18.-26. juli
DESCRIPTION:Spejdernes Lejr = Nordens største spejderlejr afholdes i Hedel
 and ved  \nRoskilde fra lørdag den 18. til søndag den 26. juli 2026.\n\n
 https://spejderneslejr.dk/ [1]\n\nVed tilmelding inden onsdag den 18. febr
 uar 2026 er prisen 1800 kr. for en  \nhel lejr. Efter den dato stiger pris
 en med 200 kr.\n\n\nVi skal formentlig bo i underlejr "Landet".  Der find
 es bl.a. et kort i  \ninformationspakke 2 \n\nhttps://spejderneslejr.dk/n
 yheder/informationspakke-2/ [2]\n\n\n[1] https://spejderneslejr.dk/\n[2] h
 ttps://spejderneslejr.dk/nyheder/informationspakke-2/\n
URL:https://www.xn--kastrupsspejder-dub.dk/begivenhed/spejdernes-lejr-2026-
 sl2026-18-26-juli
DTSTART:20260717T220000Z
DTEND:20260725T220000Z
LOCATION:Kastrup Søspejder\, Amager Strandvej 413A\, 2770 Kastrup
END:VEVENT
BEGIN:VEVENT
UID:gruppeweb.dk:2104:event:1216
DTSTAMP:20260423T144406Z
LAST-MODIFIED:20251224T121458Z
SUMMARY:Julefrokost og formøde til Grupperådsmøde for ledere\, bestyrels
 e og faste hjælpere onsdag 21. januar kl 1830
DESCRIPTION:\n
URL:https://www.xn--kastrupsspejder-dub.dk/begivenhed/julefrokost-og-formoe
 de-til-grupperaadsmoede-ledere-bestyrelse-og-faste-hjaelpere-onsdag
DTSTART:20260121T173000Z
DTEND:20260121T203000Z
LOCATION:Kastrup Søspejder\, Amager Strandvej 413A\, 2770 Kastrup
END:VEVENT
BEGIN:VEVENT
UID:gruppeweb.dk:2104:event:1217
DTSTAMP:20260423T144406Z
LAST-MODIFIED:20260219T221039Z
SUMMARY:½ (første halvdel) Spejdernes Lejr 2026 (SL2026) 18.-22. juli
DESCRIPTION:½ (første halvdel) Spejdernes Lejr = Nordens største spejder
 lejr afholdes  \ni Hedeland ved Roskilde fra lørdag den 18. til onsdag de
 n 22. juli 2026.\n\nhttps://spejderneslejr.dk/ [1]\n\nVed tilmelding inden
  onsdag den 18. februar 2026 er prisen 1000 kr. for en  \nhel lejr. Efter 
 den dato stiger prisen med 100 eller 200 kr.\n\n\nVi skal formentlig bo i 
 underlejr "Landet".  Der findes bl.a. et kort i  \ninformationspakke 2 \
 n\nhttps://spejderneslejr.dk/nyheder/informationspakke-2/ [2]\n\n\n[1] htt
 ps://spejderneslejr.dk/\n[2] https://spejderneslejr.dk/nyheder/information
 spakke-2/\n
URL:https://www.xn--kastrupsspejder-dub.dk/begivenhed/12-foerste-halvdel-sp
 ejdernes-lejr-2026-sl2026-18-22-juli
DTSTART:20260717T220000Z
DTEND:20260721T220000Z
LOCATION:Kastrup Søspejder\, Amager Strandvej 413A\, 2770 Kastrup
END:VEVENT
BEGIN:VEVENT
UID:gruppeweb.dk:2104:event:1218
DTSTAMP:20260423T144406Z
LAST-MODIFIED:20260219T221036Z
SUMMARY:½ (anden halvdel) Spejdernes Lejr 2026 (SL2026) (kopi)
DESCRIPTION:½ Spejdernes Lejr = Nordens største spejderlejr afholdes i He
 deland ved  \nRoskilde fra lørdag den 22. til søndag den 26. juli 2026.\
 n\nhttps://spejderneslejr.dk/ [1]\n\nVed tilmelding inden onsdag den 18. f
 ebruar 2026 er prisen 1000 kr. for en  \nhel lejr. Efter den dato stiger p
 risen med 100-200 kr.\n\n\nVi skal formentlig bo i underlejr "Landet".  D
 er findes bl.a. et kort i  \ninformationspakke 2 \n\nhttps://spejdernesle
 jr.dk/nyheder/informationspakke-2/ [2]\n\n\n[1] https://spejderneslejr.dk/
 \n[2] https://spejderneslejr.dk/nyheder/informationspakke-2/\n
URL:https://www.xn--kastrupsspejder-dub.dk/begivenhed/12-anden-halvdel-spej
 dernes-lejr-2026-sl2026-kopi
DTSTART:20260721T220000Z
DTEND:20260725T220000Z
LOCATION:Kastrup Søspejder\, Amager Strandvej 413A\, 2770 Kastrup
END:VEVENT
BEGIN:VEVENT
UID:gruppeweb.dk:2104:event:1132
DTSTAMP:20260423T144406Z
LAST-MODIFIED:20250410T050002Z
SUMMARY:Pandaløb på Kastrup Fort
DESCRIPTION:Så skal vi til Pandaløb igen søndag den 27. april. Vi mødes
  foran Kastrup  \nFort\, Amager Strandvej 246\, senest kl. 0915\, og det s
 lutter ca. kl. 1530  \nefter præmieoverrækkelse og uddeling af årets Pa
 ndamærke til din uniform.  \nKastrup Søspejder plejer at vinde\, mest i 
 turn out\, som er et bevis på\, at  \nI er gode til at samarbejde og pass
 e på hinanden. Det er både for ulve og  \njuniorer..\n\n
URL:https://www.xn--kastrupsspejder-dub.dk/begivenhed/pandaloeb-paa-kastrup
 -fort
DTSTART:20250427T071500Z
DTEND:20250427T133000Z
LOCATION:Kastrup Søspejder\, Amager Strandvej 413A\, 2770 Kastrup
END:VEVENT
BEGIN:VEVENT
UID:gruppeweb.dk:2104:event:1137
DTSTAMP:20260423T144406Z
LAST-MODIFIED:20260212T085639Z
SUMMARY:Skæg & Blålys på plænen ved Sundby ved siden af Fribytterne
DESCRIPTION:Tirsdag den 3. juni afholdes igen ”Skæg og Blålys” for al
 le spejdere.\n\nDet foregår ved Amager Strandpark\, Sundby\n\nI skal mød
 e kl. 18 på plænen i Amager Strandpark for enden af Øresundsvej  \nved 
 siden af Fribytterne\, hvor I får et afkrydsningskort med alle posterne  
 \naf en fra Amager Division.\nKastrup Søspejders post er nede ved vandet
  - så kom derned\, når I har  \nfået jeres afkrydsningskort med alle po
 sterne.\n\nDer vil være en masse forskellige aktiviteter.\n\nDet hele slu
 tter kl. 20.00.\n\n
URL:https://www.xn--kastrupsspejder-dub.dk/begivenhed/skaeg-blaalys-paa-pla
 enen-ved-sundby-ved-siden-af-fribytterne
DTSTART:20250603T160000Z
DTEND:20250603T180000Z
LOCATION:Kastrup Søspejder\, Amager Strandvej 413A\, 2770 Kastrup
END:VEVENT
BEGIN:VEVENT
UID:gruppeweb.dk:2104:event:1138
DTSTAMP:20260423T144406Z
LAST-MODIFIED:20250605T073505Z
SUMMARY:Miniulvesommerlejr  + juniorer - kanotur
DESCRIPTION:Vi laver en mini sommerlejr for ulve og juniorer. Det bliver en
  kanotur\, hvor  \nvi sover i telte. Vi har fået lov at leje kanoer fra V
 irumgruppens spejdere  \nved Furesøen\, så vi regner med at sejle ned ad
  Mølleåen og tilbage igen.  \nDet er fra fredag den 4. til 6. juli\, men
  vi har ikke de eksakte tidspunkter  \nendnu. Det kommer an på deltagerne
 . Prisen kender vi heller ikke endnu.\n\n
URL:https://www.xn--kastrupsspejder-dub.dk/begivenhed/miniulvesommerlejr-ju
 niorer-kanotur
DTSTART:20250704T095200Z
DTEND:20250706T095200Z
LOCATION:
END:VEVENT
BEGIN:VEVENT
UID:gruppeweb.dk:2104:event:1148
DTSTAMP:20260423T144406Z
LAST-MODIFIED:20250928T092724Z
SUMMARY:Divisionens Efterårstur til Høbjerghus for Tanglopper og ulve 3.-
 5. oktober\, vi mødes kl. 1715 på Tårnby Torv mellem Netto og DSB
DESCRIPTION:Divisionens årlige efterårstur til Høbjerghus for tanglopper
  og ulve 3.-5.  \noktober. Vi starter i bus fra Tårnby Station fredag kl.
  1715 (mellem DSB og  \nNetto) og kommer tilbage søndag eftermiddag\n\nVi
  bliver transporteret i bus frem og tilbage. Den store hytte Høbjerghus  
 \nhar sovesale til alle\, så vi sover inde. Der er køjesenge\, så børn
 ene  \nskal bare have sovepose\, lagen og hovedpude med foruden evt. soveb
 amse\, tøj  \nefter vejret\, indesko/hjemmesko etc. Se pakkelister på vo
 res hjemmeside  \neller spørg lederne.\n\nFredag skal spejderne have spis
 t hjemmefra eller have madpakke med. Lørdag  \ngår med et løb over et s
 pændende tema\, hvor spejderne bliver delt op på  \nhold. Der bliver sel
 vfølgelig også tid til fri leg og hygge. Det plejer at  \nvære en rigti
 g god og hyggelig tur\, hvor spejderne får snakket med andre  \nspejdere 
 fra Amager\, som de  måske også har mødt på Pandaløb og Skæg &  \nB
 lålys. \n\nVi håber\, I alle vil prøve at overtale jeres børn til at 
 tage med. Turene  \ner der\, hvor de rigtigt lærer hinanden at kende\, pr
 øver en masse nye ting -  \nog vokser i selvtillid.\n\n-------- Praktisk 
 information ------------------------------------------------\n\nStartdato3
 . OKT 2025 17:15Slutdato5. OKT 2025 12:30Bliver kørt i bus til og  \nfra:
 Høbjerghus\, Høbjerghegn\, 3200 Helsinge\nPS. Ingen mobiltelefoner og he
 ller ikke slik - det skaber splid.\n
URL:https://www.xn--kastrupsspejder-dub.dk/begivenhed/divisionens-efteraars
 tur-til-hoebjerghus-tanglopper-og-ulve-3-5-oktober-vi-moedes-kl
DTSTART:20251003T151500Z
DTEND:20251005T121500Z
LOCATION:Kastrup Søspejder\, Amager Strandvej 413A\, 2770 Kastrup
END:VEVENT
BEGIN:VEVENT
UID:gruppeweb.dk:2104:event:1228
DTSTAMP:20260423T144406Z
LAST-MODIFIED:20260407T224733Z
SUMMARY:Pandaløb Kastrup Fort søndag 26. april kl. 0915
DESCRIPTION:-------- *Hej alle** - vi inviterer jer til **\n         \n   
       * ------------------------------------------------------------------
 -\n\n-------- *Pandaløb. Et anderledes løb for **yngstegrenene. **\n   
       \n         * -------------------------------------------------------
 ------------\n\n======== *Tanglopper\, ulve og juniorer **\n         \n   
       * ==================================================================
 =\n\n======== *Pris er 50 kr. pr. deltager. Tilmelding via hjemmesiden.*\n
          *\n         \n         * ========================================
 ===========================\n\n  * Søndag d. 26. april kl. 0915*\n\n\n
 \n* ** ** Løbet s**tarte**r** På Kastrup fort er kl.10.00**\,    
 men vi  \nmødes kl. 09.15 foran fortet på Amager Strandvej 246.*\n\n\n\n
 *   Forventet afslutning kl.15.30. Senest tilmelding og betaling sker  \
 n**onsdag** **9.april via vores hjemmeside**.*\n\n\n\n*   Husk dit gode
  humør\, en madpakke**\,** drikkelse** og en lille  \nturrygsæk**.***\
 n\n\n\n   Er der nogle spørgsmål\, så snak med din leder .\n\n\n\n*
  *\n\n*Kom i god tid for indskrivning – senest kl. 9.**15**!!!***\n\n\n
 \n*Arrangeret af: ”Normannerne” DDS Amagerdivision. *\n\n\n
URL:https://www.xn--kastrupsspejder-dub.dk/begivenhed/pandaloeb-kastrup-for
 t-soendag-26-april-kl-0915
DTSTART:20260426T071500Z
DTEND:20260426T133000Z
LOCATION:Kastrup Søspejder\, Amager Strandvej 413A\, 2770 Kastrup
END:VEVENT
BEGIN:VEVENT
UID:gruppeweb.dk:2104:event:1435
DTSTAMP:20260423T144406Z
LAST-MODIFIED:20260421T201712Z
SUMMARY:Ulve og juniorer inviteres til Amager divisionsturnering 29.-31. ma
 j 2026 - SIDSTE TILMELDING onsdag den 6. maj kl. 22!!!
DESCRIPTION:\n*KUN\nulve og juniorer fra Kastrup Søspejder          
   **KUN\nulve og juniorer fra Kastrup Søspejder           **KUN u
 lve og  \njuniorer fra Kastrup Søspejder*\n\n*\n*\n\nSå er det tid til 
 årets divisionsturnering som er for alle mikroer\, minier\,  \njuniorer\,
  tropsspejder samt klaner i Amager Division – eller dem fra 6-24  \når!
  Det er her\, du har mulighed for at møde alle de andre blå spejdere på
   \ndin egen alder i divisionen og vise hvad du har lært.\n\nHvornår\nsk
 al vi afsted? Weekenden d. 29-31*.\nmaj 2026*.\n\nHvor\nmødes vi? På Tå
 rnby station kl. *17:30*\n\nHvornår\nkommer vi hjem? Vi slutter samme ste
 d søndag kl. *15.00*.\n\nHvor\nskal vi hen? Til Høbjerghus. Høbjerg Heg
 n 5-7 Helsinge\n\nHvad koster det? 250 kr.\n\nHvornår\nskal jeg tilmelde 
 mig? Via hjemmesiden *senest*:\n*ONSDAG\n6. MAJ.*\n\nHvad skal jeg\nmedbri
 nge? Alm. weekendudstyr til udendørs overnatning incl.\ntallerkner\, kop\
 , viskestykke\, lommelygte og sovedyr. Alt skal være\npakket i rygsæk 
 – ingen løs håndbagage.\n\n\nHvornår\nfår jeg mad? Du får *ikke*\nm
 ad\nfredag aften\, så du skal derfor sørge for at spise hjemmefra.\n\n 
                                 \n\n             
                                         \n        
                                  Vi håber vi  \nbliver r
 igtigt mange\n\n--------                                 
              \n                                    Le
 derne --------------------\n\n\n\n
URL:https://www.xn--kastrupsspejder-dub.dk/begivenhed/ulve-og-juniorer-invi
 teres-til-amager-divisionsturnering-29-31-maj-2026-sidste
DTSTART:20260529T153000Z
DTEND:20260531T130000Z
LOCATION:Kastrup Søspejder\, Amager Strandvej 413A\, 2770 Kastrup
END:VEVENT
END:VCALENDAR
